BEGIN:VCALENDAR
VERSION:2.0
PRODID:-//wp-events-plugin.com//7.2.3.1//EN
TZID:Europe/Vienna
X-WR-TIMEZONE:Europe/Vienna
BEGIN:VEVENT
UID:15062@annakirche.at
DTSTART;TZID=Europe/Vienna:20260202T180000
DTEND;TZID=Europe/Vienna:20260202T180000
DTSTAMP:20260130T173421Z
URL:https://annakirche.at/events/darstellung-des-herrn-maria-lichtmess/
SUMMARY:Darstellung des Herrn - Maria Lichtmess
DESCRIPTION:Am Montag\, den 2. Februar\, laden wir Sie herzlich zur Festmes
 se mit Kerzenweihe ein. Die Segensandacht beginnt um 17.40 Uhr\, anschlie
 ßend\, um 18 Uhr feiern wir den Festgottesdienst.
ATTACH;FMTTYPE=image/jpeg:https://i0.wp.com/annakirche.at/wp-content/uploa
 ds/2025/02/2025-Februar.neu_html_60e8b6aa-e1769794450193.jpg?fit=670%2C447
 &ssl=1
CATEGORIES:Annakirche,Hl. Messe,Liturgie &amp; Gebete
LOCATION:Annakirche\, Annagasse 3b\, Wien\, 1010\, Österreich
GEO:48.204347;16.372079
X-APPLE-STRUCTURED-LOCATION;VALUE=URI;X-ADDRESS=Annagasse 3b\, Wien\, 1010\
 , Österreich;X-APPLE-RADIUS=100;X-TITLE=Annakirche:geo:48.204347,16.37207
 9
END:VEVENT
BEGIN:VTIMEZONE
TZID:Europe/Vienna
X-LIC-LOCATION:Europe/Vienna
BEGIN:STANDARD
DTSTART:20251026T020000
TZOFFSETFROM:+0200
TZOFFSETTO:+0100
TZNAME:CET
END:STANDARD
END:VTIMEZONE
END:VCALENDAR